BEGIN:VCALENDAR
VERSION:2.0
PRODID:-//IP.Board Calendar 4.5.4.2//EN
METHOD:PUBLISH
CALSCALE:GREGORIAN
BEGIN:VTIMEZONE
TZID:Europe/London
TZURL:http://tzurl.org/zoneinfo/Europe/London
X-LIC-LOCATION:Europe/London
BEGIN:DAYLIGHT
TZOFFSETFROM:+0000
TZOFFSETTO:+0100
TZNAME:BST
DTSTART:20180325T020000Z
RRULE:FREQ=YEARLY;BYMONTH=3;BYDAY=-1SU
END:DAYLIGHT
BEGIN:STANDARD
TZOFFSETFROM:+0100
TZOFFSETTO:+0000
TZNAME:GMT
DTSTART:20181028T020000Z
RRULE:FREQ=YEARLY;BYMONTH=10;BYDAY=-1SU
END:STANDARD
END:VTIMEZONE
BEGIN:VEVENT
SUMMARY:2018 - Crypto Boom!
DTSTAMP:20171230T095408Z
SEQUENCE:0
UID:1-1-b06d7a427438c76e5d65e6ba8f9dc597@forum.cryptofind.com.au
ORGANIZER;CN="CryptoFind-Admin":info@cryptofind.com.au
DESCRIPTION:\n	Strap yourselves in\, 2018 is going to be crazy for crypt
	o!\n
DTSTART;VALUE=DATE:20180101
END:VEVENT
END:VCALENDAR
